BEGIN:VCALENDAR
VERSION:2.0
PRODID:-//Solspace/Calendar//EN
CALSCALE:GREGORIAN
BEGIN:VEVENT
UID:6744f0b9c6acc76e8834652cb9398707@solspace.com
DTSTAMP:20200227T114811
DESCRIPTION:After a successful launch in 2004\, World Suicide Preventio
 n Day (WSPD) is now held every year on 10 September.
DTSTART;VALUE=DATE:20180910
DTEND;VALUE=DATE:20180911
SUMMARY:World Suicide Prevention Day
END:VEVENT
END:VCALENDAR