BEGIN:VCALENDAR
VERSION:2.0
PRODID:-//Solspace/Calendar//EN
CALSCALE:GREGORIAN
BEGIN:VEVENT
UID:6bf766c36c9ea28b16932f91a9ec826f@solspace.com
DTSTAMP:20200227T114804
DESCRIPTION:R U OK? Day is our national day of action dedicated to remin
 ding everyone that we’ve all got what it takes to ask\, 
 are you ok?” and support those struggling with life.
DTSTART;VALUE=DATE:20180913
DTEND;VALUE=DATE:20180914
SUMMARY:R U OK? Day
END:VEVENT
END:VCALENDAR