BEGIN:VCALENDAR
VERSION:2.0
PRODID:-//Solspace/Calendar//EN
CALSCALE:GREGORIAN
BEGIN:VEVENT
UID:920dccbf1c900119cdb5042e2fe41108@solspace.com
DTSTAMP:20200227T114642
DESCRIPTION:The Mental Health Services (TheMHS) Conference is Australasi
 a’s leading and most diverse mental health conference.  Th
 e annual TheMHS Conference is held in a different city aroun
 d Australia and New Zealand each year and attracts approxima
 tely 1\,000 delegates annually. The Conference is strongly i
 nterdisciplinary and multisectoral – making TheMHS Confere
 nce the place to be for networking in the mental health sect
 or. Our delegates come from a diverse range of personal and 
 professional backgrounds including clinicians\, managers\, c
 onsumers\, carers\, researchers\, educators and policy maker
 s.
DTSTART;VALUE=DATE:20190827
DTEND;VALUE=DATE:20190831
SUMMARY:The Mental Health Services (TheMHS) Conference
END:VEVENT
END:VCALENDAR