BEGIN:VCALENDAR
VERSION:2.0
PRODID:-//Solspace/Calendar//EN
CALSCALE:GREGORIAN
BEGIN:VEVENT
UID:65fbe325973c4b21f2f13f0697ec880a@solspace.com
DTSTAMP:20200227T114649
DESCRIPTION:The 2019 International Mental Health Conference will be held
  from Wednesday 31 July – Friday 2 August at Royal Pines R
 esort\, Gold Coast. Featuring Australia and New Zealand’s 
 leading clinical practitioners\, academics\, and mental heal
 th experts\, the 2019 International Mental Health Conference
  continues in its 20th year to network\, share research\, pr
 ojects and formulate ideas for change for those living with 
 mental health conditions. Enjoy a three-day program of inspi
 ring keynote addresses\, speaker presentations\, workshops\,
  poster presentations and ample networking opportunities.
DTSTART;VALUE=DATE:20190731
DTEND;VALUE=DATE:20190803
SUMMARY:20th International Mental Health Conference
END:VEVENT
END:VCALENDAR