BEGIN:VCALENDAR
VERSION:2.0
PRODID:-//Solspace/Calendar//EN
CALSCALE:GREGORIAN
BEGIN:VEVENT
UID:f31dadd7c494c9f3800a4e334364e749@solspace.com
DTSTAMP:20200227T114518
DESCRIPTION:R U OK?Day is our national day of action dedicated to remind
 ing everyone that any day is the day to ask\, “Are you ok?
 ” and support those struggling with life . Taking part can
  be as simple as learning R U OK?’s four steps so you can 
 have a conversation that could change a life. The day is abo
 ut inspiring people to start these conversations every day o
 f the year. Help get your school\, workplace and community a
 sking\, "Are you ok?"
DTSTART;VALUE=DATE:20190912
DTEND;VALUE=DATE:20190913
SUMMARY:R U OK?DAY
END:VEVENT
END:VCALENDAR