BEGIN:VCALENDAR
VERSION:2.0
PRODID:-//Solspace/Calendar//EN
CALSCALE:GREGORIAN
BEGIN:VEVENT
UID:b3fa90e2791024e2e3648eaa1c2e0e6b@solspace.com
DTSTAMP:20200227T114738
DESCRIPTION:Designing for people: UX in digital health. Healthdirect Aus
 tralia’s Information Partner Forum
DTSTART;VALUE=DATE:20190516
DTEND;VALUE=DATE:20190517
SUMMARY:Digital Health forum
END:VEVENT
END:VCALENDAR