BEGIN:VCALENDAR
VERSION:2.0
PRODID:-//Solspace/Calendar//EN
CALSCALE:GREGORIAN
BEGIN:VEVENT
UID:0353bde5883683c7bba15c48ecca9c61@solspace.com
DTSTAMP:20200227T114725
DESCRIPTION:This year’s symposium is focused on the Thought Leaders of
  Today.
DTSTART;VALUE=DATE:20190518
DTEND;VALUE=DATE:20190519
SUMMARY:One Door Mental Health Symposium
END:VEVENT
END:VCALENDAR