BEGIN:VCALENDAR
VERSION:2.0
PRODID:-//Solspace/Calendar//EN
CALSCALE:GREGORIAN
BEGIN:VEVENT
UID:160a10ccd24c8f283f90ba337d948b06@solspace.com
DTSTAMP:20200227T114713
DESCRIPTION:The future of suicide prevention training is here with Livin
 gWorks Start\, our first online program. Learnable in as lit
 tle as one hour from any computer or mobile device\, LivingW
 orks Start empowers everyone to play a role in saving lives 
 from suicide.
DTSTART:20190702T120000
DTEND:20190702T130000
SUMMARY:Australian Launch of LivingWorks Start
END:VEVENT
END:VCALENDAR