BEGIN:VCALENDAR
VERSION:2.0
PRODID:-//Solspace/Calendar//EN
CALSCALE:GREGORIAN
BEGIN:VEVENT
UID:b8f44353f2212e37daee69ce4ba47559@solspace.com
DTSTAMP:20200227T114703
DESCRIPTION:Network MindOUT Webinar A Practical Webinar Building Resilie
 nce- Working and Belonging in the LGBTI Community
DTSTART:20190716T000000
DTEND:20190716T130000
SUMMARY:Network MindOUT Webinar
END:VEVENT
END:VCALENDAR