BEGIN:VCALENDAR
VERSION:2.0
PRODID:-//Solspace/Calendar//EN
CALSCALE:GREGORIAN
BEGIN:VEVENT
UID:5592381d2a54464bd811479cc472b5b1@solspace.com
DTSTAMP:20200227T114455
DESCRIPTION:Take part in Lifeline Macarthur's Out of the Shadows - Natio
 nal suicide prevention walk to coincide with World Suicide P
 revention Day. Join us for our Annual Walk at Harrington Par
 k Oval. This will be followed by light refreshments.  Regist
 ration from 7.00am and the walk will commence at 7.30am.
DTSTART:20190914T070000
DTEND:20190914T100000
SUMMARY:Out of the Shadows Walk - Lifeline Macarthur
END:VEVENT
END:VCALENDAR