BEGIN:VCALENDAR
VERSION:2.0
PRODID:-//Solspace/Calendar//EN
CALSCALE:GREGORIAN
BEGIN:VEVENT
UID:a1b83fe3a6b9e6fa77991da04afc850b@solspace.com
DTSTAMP:20200227T114446
DESCRIPTION:A community event with guest speakers\, walk to the Cairn ar
 ound the headland BBQ live entertainment.
DTSTART:20190914T090000
DTEND:20190914T120000
SUMMARY:Walk With Us
END:VEVENT
END:VCALENDAR