BEGIN:VCALENDAR
VERSION:2.0
PRODID:-//Solspace/Calendar//EN
CALSCALE:GREGORIAN
BEGIN:VEVENT
UID:3b0565d337a5a13a86562e70938ca715@solspace.com
DTSTAMP:20200227T114637
DESCRIPTION:Each year in Dubbo the National Association for Loss and Gri
 ef (NALAG) NSW Inc. holds the Walk Towards Hope - an event w
 hich promotes suicide prevention and awareness.  We meet at 
 Bob Jane T Marts located on the corner of Macquarie and Cobr
 a Streets Dubbo then walk across the LH Ford bridge to Lions
  Park in West Dubbo. Here we hold a ceremony to remember tho
 se who have been lost to suicide as well as reminding others
  that there is help available if they need it.11.00am Gather
  at Bob Jane T-Marts in Macquarie Street\, Dubbo  11.30am Wa
 lk across the LH Ford Bridge to Lions Park\, West Dubbo 12no
 on Attend a short Remembering Ceremony at Lions Park  12.30p
 m Free BBQ Lunch at Lions Park\, West Dubbo  FREE T-shirts p
 rovided to wear for the walk\, available on the day. Limited
  stock - arrive early!
DTSTART:20190907T110000
DTEND:20190907T140000
SUMMARY:NALAG Walk Towards Hope
END:VEVENT
END:VCALENDAR