BEGIN:VCALENDAR
VERSION:2.0
PRODID:-//Solspace/Calendar//EN
CALSCALE:GREGORIAN
BEGIN:VEVENT
UID:0f6069894e8627a8ccbd72593b23ffa2@solspace.com
DTSTAMP:20200227T114550
DESCRIPTION:HealthWISE staff and members of the Lived Experience Referen
 ce Group will show their support for World Suicide Preventio
 n Day and encourage locals to start the conversation by host
 ing a free sausage sizzle at Bunnings from 8.30am to 12.30pm
  on Tuesday\, September 10.
DTSTART:20190910T083000
DTEND:20190910T123000
SUMMARY:World Suicide Prevention Day BBQ
END:VEVENT
END:VCALENDAR