BEGIN:VCALENDAR
VERSION:2.0
PRODID:-//Solspace/Calendar//EN
CALSCALE:GREGORIAN
BEGIN:VEVENT
UID:eb000a621df7525bb759642c9859f64a@solspace.com
DTSTAMP:20200227T114606
DESCRIPTION:Please join us for AISRAP's 2019 Forum for World Suicide Pre
 vention Day. Professor Jane Pirkis will launch AISRAP hostin
 g the Cycle Around the Globe 2019 campaign in support of Wor
 ld Suicide Prevention Day. Please register at the link at th
 e end of this page. This event is proudly supported by the Q
 ueensland Mental Health Commission. The objective of the Que
 ensland Mental Health Commission is to improve the mental he
 alth and wellbeing of Queenslanders
DTSTART;VALUE=DATE:20190910
DTEND;VALUE=DATE:20190911
SUMMARY:AISPRAP's 2019 forum for World Suicide Prevention Day
END:VEVENT
END:VCALENDAR