BEGIN:VCALENDAR
VERSION:2.0
PRODID:-//Solspace/Calendar//EN
CALSCALE:GREGORIAN
BEGIN:VEVENT
UID:a29cc89f4cb80a7abb8d481c2d216f5e@solspace.com
DTSTAMP:20200227T114438
DESCRIPTION:Raising awareness of therapies and research for borderline p
 ersonality disorder (BPD)\, a serious mental illness that ca
 n lead to volatile relationships and self-harm which can inc
 lude suicide or suicidal ideation. The National Communicatio
 ns Charter (The Charter) will be available for people to sig
 n and support this unified approach for a common language in
  mental health\, mental illness and suicide
DTSTART:20191001T120000
DTEND:20191001T233000
SUMMARY:BPD Awareness Week
END:VEVENT
END:VCALENDAR